BEGIN:VCALENDAR
VERSION:2.0
PRODID:-//Community Energy Association - ECPv6.15.14//NONSGML v1.0//EN
CALSCALE:GREGORIAN
METHOD:PUBLISH
X-WR-CALNAME:Community Energy Association
X-ORIGINAL-URL:https://www.communityenergy.ca
X-WR-CALDESC:Events for Community Energy Association
REFRESH-INTERVAL;VALUE=DURATION:PT1H
X-Robots-Tag:noindex
X-PUBLISHED-TTL:PT1H
BEGIN:VTIMEZONE
TZID:America/Vancouver
BEGIN:DAYLIGHT
TZOFFSETFROM:-0800
TZOFFSETTO:-0700
TZNAME:PDT
DTSTART:20240310T100000
END:DAYLIGHT
BEGIN:STANDARD
TZOFFSETFROM:-0700
TZOFFSETTO:-0800
TZNAME:PST
DTSTART:20241103T090000
END:STANDARD
BEGIN:DAYLIGHT
TZOFFSETFROM:-0800
TZOFFSETTO:-0700
TZNAME:PDT
DTSTART:20250309T100000
END:DAYLIGHT
BEGIN:STANDARD
TZOFFSETFROM:-0700
TZOFFSETTO:-0800
TZNAME:PST
DTSTART:20251102T090000
END:STANDARD
BEGIN:DAYLIGHT
TZOFFSETFROM:-0800
TZOFFSETTO:-0700
TZNAME:PDT
DTSTART:20260308T100000
END:DAYLIGHT
BEGIN:STANDARD
TZOFFSETFROM:-0700
TZOFFSETTO:-0800
TZNAME:PST
DTSTART:20261101T090000
END:STANDARD
END:VTIMEZONE
BEGIN:VEVENT
DTSTART;TZID=America/Vancouver:20250206T083000
DTEND;TZID=America/Vancouver:20250206T140000
DTSTAMP:20260419T223401
CREATED:20241210T172919Z
LAST-MODIFIED:20250204T200104Z
UID:18912-1738830600-1738850400@www.communityenergy.ca
SUMMARY:HPSC's Retrofitting with a House-as-a-System Approach (Kamloops)
DESCRIPTION:Join us for an introduction to retrofitting with a whole-home approach to create better homes for your clients and to grow your business. \n\n\n\n\n\n\n\n\n\nThis course is an introduction to retrofitting with a whole-home\, or house-as-a-system\, approach to both create better homes for your clients and to grow your business. By participating you will learn: \n\nHow a house operates as a system\nHow to identify common home issues that have energy retrofit solutions\, and how to avoid creating new issues.\nHow to explain the home- and life-improving benefits of your products and services\nHow to create a reciprocal referral network that can support your clients to complete whole-home retrofits and bring in more business for your company.\n\nThis course focuses on practical examples and scenarios providing participants with takeaways they can immediately put into practice. \nAre your clients interested in accessing Provincial rebates for their heat pump installs\, insulation upgrades or window and door retrofits? This course is included in the mandatory qualification criteria for the Home Performance Contractor Network (HPCN)\, the network of contractors that homeowners must hire from to access retrofit rebates from the Province of BC and utility providers. \nRegistration\nRegister for $20+ service fee on Eventbrite
URL:https://www.communityenergy.ca/event/hpscs-retrofitting-with-a-house-as-a-system-approach-kamloops/
LOCATION:Thompson Rivers University\, 1055 University Drive\, Kamloops\, BC\, V2C 0C8\, Canada
ATTACH;FMTTYPE=image/png:https://www.communityenergy.ca/wp-content/uploads/2024/12/BESA_HAAS_202502_eb_r4.png
END:VEVENT
END:VCALENDAR