BEGIN:VCALENDAR
VERSION:2.0
PRODID:-//Community Energy Association - ECPv6.15.14//NONSGML v1.0//EN
CALSCALE:GREGORIAN
METHOD:PUBLISH
X-ORIGINAL-URL:https://www.communityenergy.ca
X-WR-CALDESC:Events for Community Energy Association
REFRESH-INTERVAL;VALUE=DURATION:PT1H
X-Robots-Tag:noindex
X-PUBLISHED-TTL:PT1H
BEGIN:VTIMEZONE
TZID:America/Vancouver
BEGIN:DAYLIGHT
TZOFFSETFROM:-0800
TZOFFSETTO:-0700
TZNAME:PDT
DTSTART:20240310T100000
END:DAYLIGHT
BEGIN:STANDARD
TZOFFSETFROM:-0700
TZOFFSETTO:-0800
TZNAME:PST
DTSTART:20241103T090000
END:STANDARD
BEGIN:DAYLIGHT
TZOFFSETFROM:-0800
TZOFFSETTO:-0700
TZNAME:PDT
DTSTART:20250309T100000
END:DAYLIGHT
BEGIN:STANDARD
TZOFFSETFROM:-0700
TZOFFSETTO:-0800
TZNAME:PST
DTSTART:20251102T090000
END:STANDARD
BEGIN:DAYLIGHT
TZOFFSETFROM:-0800
TZOFFSETTO:-0700
TZNAME:PDT
DTSTART:20260308T100000
END:DAYLIGHT
BEGIN:STANDARD
TZOFFSETFROM:-0700
TZOFFSETTO:-0800
TZNAME:PST
DTSTART:20261101T090000
END:STANDARD
END:VTIMEZONE
BEGIN:VEVENT
DTSTART;TZID=America/Vancouver:20250225T080000
DTEND;TZID=America/Vancouver:20250225T093000
DTSTAMP:20260419T205656
CREATED:20250109T174710Z
LAST-MODIFIED:20250204T200104Z
UID:18986-1740470400-1740475800@www.communityenergy.ca
SUMMARY:Simplify Heat Pump Selection: there’s an app for that
DESCRIPTION:It’s not easy sizing and selecting the right heat pump for a given home. Ducted or ductless\, multiple or single zone\, heating capacity and cooling capacity\, limited warranties… it all adds up to a big headache. \nBut now you can make the decision-making process easier with the new Local Energy Efficiency Partnership (LEEP) Air-Source Heat Pump Sizing and Selection App. This free\, online tool from Natural Resources Canada is a user-friendly way for HVAC designers and contractors to quickly specify a heat pump project. It even lets contractors\, builders\, electricians\, homeowners and others collaborate and comment on proposed solutions within the app. \nJoin Community Energy Association and Ecolighten for a guided tour of the app and demonstrations of how it can help your work go faster and more smoothly. So\, you can spend less time in spec sheets and more time installing efficient systems. \nRegister on Eventbrite \n  \n  \nNotes\nEvent is free of charge\, but you must pre-register for the webinar you’d like to attend. \nIf you can’t attend the webinar – no problem! We’ll provide the slide deck and a link to the recording to all those who have registered. \nContinuing Professional Development (CPD) Points through BC Housing are pending. \n  \nAbout the Presenter\nRob Pope\, Senior Consultant\, Ecolighten Energy Solutions \nRob started working in the HVAC industry in the mid 1970s where he began his apprenticeship in high-end custom homes\, quickly earning tickets in sheet metal\, refrigeration and gas fitting. During this time\, he installed\, serviced and began designing the first wave of energy-efficient systems such as condensing gas furnaces and boilers\, heat recovery ventilation\, heat pumps and solar thermal. Rob was the Mechanical Consultant on the first residence in Canada to achieve a Canadian LEED® certification. As an active member of the industry he has served as an executive member of the HVCI and TECA industry associations\, advocating for higher standards and better education for its members.
URL:https://www.communityenergy.ca/event/heat-pump-selection-app/
LOCATION:Zoom
ATTACH;FMTTYPE=image/png:https://www.communityenergy.ca/wp-content/uploads/2025/01/BESA_HVACWebinars_20250225_eb_r2.png
END:VEVENT
END:VCALENDAR