BEGIN:VCALENDAR
VERSION:2.0
PRODID:-//Community Energy Association - ECPv6.15.14//NONSGML v1.0//EN
CALSCALE:GREGORIAN
METHOD:PUBLISH
X-ORIGINAL-URL:https://www.communityenergy.ca
X-WR-CALDESC:Events for Community Energy Association
REFRESH-INTERVAL;VALUE=DURATION:PT1H
X-Robots-Tag:noindex
X-PUBLISHED-TTL:PT1H
BEGIN:VTIMEZONE
TZID:America/Vancouver
BEGIN:DAYLIGHT
TZOFFSETFROM:-0800
TZOFFSETTO:-0700
TZNAME:PDT
DTSTART:20240310T100000
END:DAYLIGHT
BEGIN:STANDARD
TZOFFSETFROM:-0700
TZOFFSETTO:-0800
TZNAME:PST
DTSTART:20241103T090000
END:STANDARD
BEGIN:DAYLIGHT
TZOFFSETFROM:-0800
TZOFFSETTO:-0700
TZNAME:PDT
DTSTART:20250309T100000
END:DAYLIGHT
BEGIN:STANDARD
TZOFFSETFROM:-0700
TZOFFSETTO:-0800
TZNAME:PST
DTSTART:20251102T090000
END:STANDARD
BEGIN:DAYLIGHT
TZOFFSETFROM:-0800
TZOFFSETTO:-0700
TZNAME:PDT
DTSTART:20260308T100000
END:DAYLIGHT
BEGIN:STANDARD
TZOFFSETFROM:-0700
TZOFFSETTO:-0800
TZNAME:PST
DTSTART:20261101T090000
END:STANDARD
END:VTIMEZONE
BEGIN:VEVENT
DTSTART;TZID=America/Vancouver:20250226T080000
DTEND;TZID=America/Vancouver:20250226T093000
DTSTAMP:20260419T205655
CREATED:20250128T175639Z
LAST-MODIFIED:20250128T175703Z
UID:19085-1740556800-1740562200@www.communityenergy.ca
SUMMARY:BC Home Energy Rebates for Single Family Homes: Contractor Information Session
DESCRIPTION:If your clients are interested in upgrading their home’s energy efficiency\, or adding renewable energy and EV charging\, BC’s rebate programs can make it happen. \nAs a retrofit contractor\, learn how to maximize rebate opportunities for your clients. Join the Community Energy Association for a run-down of current rebate programs available in BC and tips for navigating incentive programs. \nFeatured Programs \nProvince of BC: \n\nCleanBC Energy Savings Program\n\nBC Hydro \n\nHome Renovation Rebate Program\nElectric Vehicle Charger Rebate\nSolar Panels and Battery Storage Rebate\n\nFortisBC \n\nHome Renovation Rebate Program\nDual Fuel Heating System Rebate\nAppliance Maintenance Rebates\n\nDon’t miss this chance to help your clients save money!  Register Here! \n\n\n\n\nFeaturing presentations by:\n\nProvince of BC\nBC Hydro\nFortisBC
URL:https://www.communityenergy.ca/event/bc-home-energy-rebates-for-single-family-homes-contractor-information-session/
LOCATION:Zoom
ATTACH;FMTTYPE=image/jpeg:https://www.communityenergy.ca/wp-content/uploads/2025/01/https___cdn.evbuc_.com_images_943431553_42228464440_1_original.jpg
END:VEVENT
END:VCALENDAR