BEGIN:VCALENDAR
VERSION:2.0
PRODID:-//Community Energy Association - ECPv6.15.14//NONSGML v1.0//EN
CALSCALE:GREGORIAN
METHOD:PUBLISH
X-ORIGINAL-URL:https://www.communityenergy.ca
X-WR-CALDESC:Events for Community Energy Association
REFRESH-INTERVAL;VALUE=DURATION:PT1H
X-Robots-Tag:noindex
X-PUBLISHED-TTL:PT1H
BEGIN:VTIMEZONE
TZID:America/Vancouver
BEGIN:DAYLIGHT
TZOFFSETFROM:-0800
TZOFFSETTO:-0700
TZNAME:PDT
DTSTART:20240310T100000
END:DAYLIGHT
BEGIN:STANDARD
TZOFFSETFROM:-0700
TZOFFSETTO:-0800
TZNAME:PST
DTSTART:20241103T090000
END:STANDARD
BEGIN:DAYLIGHT
TZOFFSETFROM:-0800
TZOFFSETTO:-0700
TZNAME:PDT
DTSTART:20250309T100000
END:DAYLIGHT
BEGIN:STANDARD
TZOFFSETFROM:-0700
TZOFFSETTO:-0800
TZNAME:PST
DTSTART:20251102T090000
END:STANDARD
BEGIN:DAYLIGHT
TZOFFSETFROM:-0800
TZOFFSETTO:-0700
TZNAME:PDT
DTSTART:20260308T100000
END:DAYLIGHT
BEGIN:STANDARD
TZOFFSETFROM:-0700
TZOFFSETTO:-0800
TZNAME:PST
DTSTART:20261101T090000
END:STANDARD
END:VTIMEZONE
BEGIN:VEVENT
DTSTART;TZID=America/Vancouver:20250325T080000
DTEND;TZID=America/Vancouver:20250325T093000
DTSTAMP:20260419T205709
CREATED:20250109T184759Z
LAST-MODIFIED:20250204T200104Z
UID:18989-1742889600-1742895000@www.communityenergy.ca
SUMMARY:All-In-One: Intro to Hydronic Heat Pumps
DESCRIPTION:Wouldn’t it be great to have a single heat pump system that handles home heating\, air conditioning\, and domestic hot water in one package? \nHydronic\, or air-to-water\, heat pumps can do that and more. Water has high thermal capacity\, so hydronic systems are super efficient and nimble\, allowing for precise temperature control and zoning. And for retrofitters\, they are the perfect replacement for a natural gas boiler. \nLearn more about the design and installation best practices for air-to-water heat pumps in retrofit scenarios with Community Energy Association and Ecolighten. \nRegister on Eventbrite \n  \nNotes\nEvent is free of charge\, but you must pre-register for the webinar you’d like to attend. \nIf you can’t attend the webinar – no problem! We’ll provide the slide deck and a link to the recording to all those who have registered. \nContinuing Professional Development (CPD) Points through BC Housing are pending. \n  \nAbout the Presenter\nRob Pope\, Senior Consultant\, Ecolighten Energy Solutions \nRob started working in the HVAC industry in the mid 1970s where he began his apprenticeship in high-end custom homes\, quickly earning tickets in sheet metal\, refrigeration and gas fitting. During this time\, he installed\, serviced and began designing the first wave of energy-efficient systems such as condensing gas furnaces and boilers\, heat recovery ventilation\, heat pumps and solar thermal. Rob was the Mechanical Consultant on the first residence in Canada to achieve a Canadian LEED® certification. As an active member of the industry he has served as an executive member of the HVCI and TECA industry associations\, advocating for higher standards and better education for its members.
URL:https://www.communityenergy.ca/event/intro-hydronic-heat-pumps/
LOCATION:Zoom
ATTACH;FMTTYPE=image/png:https://www.communityenergy.ca/wp-content/uploads/2025/01/BESA_HVACWebinars_20250325_eb_r2.png
END:VEVENT
BEGIN:VEVENT
DTSTART;TZID=America/Vancouver:20250325T180000
DTEND;TZID=America/Vancouver:20250325T180000
DTSTAMP:20260419T205709
CREATED:20250305T202442Z
LAST-MODIFIED:20250305T202941Z
UID:19332-1742925600-1742925600@www.communityenergy.ca
SUMMARY:Climate Friendly Homes Tour - Information Session
DESCRIPTION:If you are interested in participating in the Climate Friendly Homes Tour\, please register here for an information  session to find out more about the Tour!
URL:https://www.communityenergy.ca/event/climate-friendly-homes-tour-information-session-2/
LOCATION:Zoom
ATTACH;FMTTYPE=image/png:https://www.communityenergy.ca/wp-content/uploads/2025/03/Event-Banner.png
END:VEVENT
END:VCALENDAR