BEGIN:VCALENDAR
VERSION:2.0
PRODID:-//Community Energy Association - ECPv6.15.14//NONSGML v1.0//EN
CALSCALE:GREGORIAN
METHOD:PUBLISH
X-WR-CALNAME:Community Energy Association
X-ORIGINAL-URL:https://www.communityenergy.ca
X-WR-CALDESC:Events for Community Energy Association
REFRESH-INTERVAL;VALUE=DURATION:PT1H
X-Robots-Tag:noindex
X-PUBLISHED-TTL:PT1H
BEGIN:VTIMEZONE
TZID:America/Edmonton
BEGIN:DAYLIGHT
TZOFFSETFROM:-0700
TZOFFSETTO:-0600
TZNAME:MDT
DTSTART:20240310T090000
END:DAYLIGHT
BEGIN:STANDARD
TZOFFSETFROM:-0600
TZOFFSETTO:-0700
TZNAME:MST
DTSTART:20241103T080000
END:STANDARD
BEGIN:DAYLIGHT
TZOFFSETFROM:-0700
TZOFFSETTO:-0600
TZNAME:MDT
DTSTART:20250309T090000
END:DAYLIGHT
BEGIN:STANDARD
TZOFFSETFROM:-0600
TZOFFSETTO:-0700
TZNAME:MST
DTSTART:20251102T080000
END:STANDARD
BEGIN:DAYLIGHT
TZOFFSETFROM:-0700
TZOFFSETTO:-0600
TZNAME:MDT
DTSTART:20260308T090000
END:DAYLIGHT
BEGIN:STANDARD
TZOFFSETFROM:-0600
TZOFFSETTO:-0700
TZNAME:MST
DTSTART:20261101T080000
END:STANDARD
END:VTIMEZONE
BEGIN:VEVENT
DTSTART;TZID=America/Edmonton:20250411T090000
DTEND;TZID=America/Edmonton:20250411T150000
DTSTAMP:20260419T191304
CREATED:20250304T173754Z
LAST-MODIFIED:20250304T173754Z
UID:19306-1744362000-1744383600@www.communityenergy.ca
SUMMARY:Understanding BC Building Code Update: Bracing to Resist Lateral Loads - Creston
DESCRIPTION:The BC Building Codes 2024 include new bracing requirements for wood framed Part 9 housing (i.e. homes and low-rise residential). These changes are meant to resist increased force from extreme winds and earthquakes. \nBuilders\, get ready for these changes coming into effect on March 10\, 2025. Sign up for an in-person\, full-day education session with the Canadian Home Builders’ Association. You can earn 6 CPD points from BC Housing. \nCommunity Energy Association is offering a $50 rebate to attendees in Prince George (Mar 5)\, Fernie (Mar 12)\, Invermere (Mar 13)\, and Creston (April 11). \nLearn more.
URL:https://www.communityenergy.ca/event/understanding-bc-building-code-update-bracing-to-resist-lateral-loads-creston/
LOCATION:Creston and District Community Complex\, 312 19 Ave N\, Creston\, BC\, V0B 1G0\, Canada
END:VEVENT
END:VCALENDAR