BEGIN:VCALENDAR
VERSION:2.0
PRODID:-//Community Energy Association - ECPv6.15.14//NONSGML v1.0//EN
CALSCALE:GREGORIAN
METHOD:PUBLISH
X-ORIGINAL-URL:https://www.communityenergy.ca
X-WR-CALDESC:Events for Community Energy Association
REFRESH-INTERVAL;VALUE=DURATION:PT1H
X-Robots-Tag:noindex
X-PUBLISHED-TTL:PT1H
BEGIN:VTIMEZONE
TZID:America/Edmonton
BEGIN:DAYLIGHT
TZOFFSETFROM:-0700
TZOFFSETTO:-0600
TZNAME:MDT
DTSTART:20240310T090000
END:DAYLIGHT
BEGIN:STANDARD
TZOFFSETFROM:-0600
TZOFFSETTO:-0700
TZNAME:MST
DTSTART:20241103T080000
END:STANDARD
BEGIN:DAYLIGHT
TZOFFSETFROM:-0700
TZOFFSETTO:-0600
TZNAME:MDT
DTSTART:20250309T090000
END:DAYLIGHT
BEGIN:STANDARD
TZOFFSETFROM:-0600
TZOFFSETTO:-0700
TZNAME:MST
DTSTART:20251102T080000
END:STANDARD
BEGIN:DAYLIGHT
TZOFFSETFROM:-0700
TZOFFSETTO:-0600
TZNAME:MDT
DTSTART:20260308T090000
END:DAYLIGHT
BEGIN:STANDARD
TZOFFSETFROM:-0600
TZOFFSETTO:-0700
TZNAME:MST
DTSTART:20261101T080000
END:STANDARD
END:VTIMEZONE
BEGIN:VEVENT
DTSTART;TZID=America/Edmonton:20250423T083000
DTEND;TZID=America/Edmonton:20250423T093000
DTSTAMP:20260419T191508
CREATED:20241220T230715Z
LAST-MODIFIED:20250326T163640Z
UID:18945-1745397000-1745400600@www.communityenergy.ca
SUMMARY:Growing Your Business as a Retrofit Contractor (Apr. 2025)
DESCRIPTION:Join a live Q&A and discover how Authorized Contractors can make the most of participating in Retrofit Assist and grow as a local business. \nCommunity Energy Association’s Retrofit Assist guides homeowners through the process of upgrading their home’s energy efficiency\, switching to a heat pump\, or installing solar electricity. \nOnly Retrofit Assist’s Authorized Contractors can access this growing business opportunity in Whistler\, Squamish\, Rossland\, Kamloops and East Kootenay. \nJoin our presentation and live Q&A to learn how home contractors (including HVAC installers\, electricians\, plumbers\, insulation specialists\, fenestration contractors) can make the most of Retrofit Assist\, take advantage of training and networking sessions\, and help their clients maximize access to rebates and financing available. Already a Retrofit Assist contractor? Join CEA to learn about important program updates! \nBring your questions and curiosity about: \n\nThe Retrofit Industry Today: Get insight into the state of BC’s retrofit market and where we expect growth.\nCommunicating with Clients: Get tips and resources for effectively talking to clients about retrofit options.\nWorking with Clients in Retrofit Assist: Understand the program’s features\, and the process for becoming a Retrofit Assist Authorized Contractor.\nHome Performance Contractors Network (HPCN): Learn how HPCN membership enables you to work projects funded with CleanBC rebates for heat pumps\, solar and energy efficiency.\n\nWhether you’re already involved in home energy retrofitting or considering entering this growing field\, we will equip you with valuable information and tools to succeed. \nRSVP for Free \nRetrofit Assist is a program of the non-profit Community Energy Association and is offered in collaboration with SwitchPACE CIC.
URL:https://www.communityenergy.ca/event/growing-your-business-as-a-retrofit-contractor-apr-2025/
LOCATION:Zoom
ATTACH;FMTTYPE=image/png:https://www.communityenergy.ca/wp-content/uploads/2024/12/RA_Contractor_Intro_Webinar_2024-001.png
END:VEVENT
END:VCALENDAR