BEGIN:VCALENDAR
VERSION:2.0
PRODID:-//Community Energy Association - ECPv6.15.14//NONSGML v1.0//EN
CALSCALE:GREGORIAN
METHOD:PUBLISH
X-WR-CALNAME:Community Energy Association
X-ORIGINAL-URL:https://www.communityenergy.ca
X-WR-CALDESC:Events for Community Energy Association
REFRESH-INTERVAL;VALUE=DURATION:PT1H
X-Robots-Tag:noindex
X-PUBLISHED-TTL:PT1H
BEGIN:VTIMEZONE
TZID:America/Vancouver
BEGIN:DAYLIGHT
TZOFFSETFROM:-0800
TZOFFSETTO:-0700
TZNAME:PDT
DTSTART:20240310T100000
END:DAYLIGHT
BEGIN:STANDARD
TZOFFSETFROM:-0700
TZOFFSETTO:-0800
TZNAME:PST
DTSTART:20241103T090000
END:STANDARD
BEGIN:DAYLIGHT
TZOFFSETFROM:-0800
TZOFFSETTO:-0700
TZNAME:PDT
DTSTART:20250309T100000
END:DAYLIGHT
BEGIN:STANDARD
TZOFFSETFROM:-0700
TZOFFSETTO:-0800
TZNAME:PST
DTSTART:20251102T090000
END:STANDARD
BEGIN:DAYLIGHT
TZOFFSETFROM:-0800
TZOFFSETTO:-0700
TZNAME:PDT
DTSTART:20260308T100000
END:DAYLIGHT
BEGIN:STANDARD
TZOFFSETFROM:-0700
TZOFFSETTO:-0800
TZNAME:PST
DTSTART:20261101T090000
END:STANDARD
END:VTIMEZONE
BEGIN:VEVENT
DTSTART;TZID=America/Vancouver:20250911T080000
DTEND;TZID=America/Vancouver:20250911T100000
DTSTAMP:20260419T100244
CREATED:20250828T163331Z
LAST-MODIFIED:20250828T163427Z
UID:20539-1757577600-1757584800@www.communityenergy.ca
SUMMARY:Cold Climate Heat Pumps Panel: Performance & Installation Considerations
DESCRIPTION:Best practices for performance and installation in climates where extreme cold can challenge efficiency and reliability. \nAs the push for comfortable and energy efficient homes continues to grow\, heat pumps are becoming a go-to solution for heating and cooling in residential buildings. However\, their performance and installation considerations can differ significantly in Kootenay\, Boundary and Northern climates\, where extreme cold can challenge their efficiency and reliability. \nThis panel is designed for HVAC contractors\, renovators\, builders\, energy advisors\, renovators\, housing managers\, building officials and all other building professionals looking to deepen their understanding of heat pump systems in cold climates. Attendees will gain practical insights and strategies for successfully incorporating heat pumps into their projects\, ensuring efficiency and customer satisfaction even in the coldest conditions. \nFull details on Eventbrite
URL:https://www.communityenergy.ca/event/cold-climate-heat-pumps-panel-performance-installation-considerations/
LOCATION:Zoom
ATTACH;FMTTYPE=image/jpeg:https://www.communityenergy.ca/wp-content/uploads/2025/08/BESA_CCHP_eb_20250911-001-scaled.jpg
END:VEVENT
END:VCALENDAR