BEGIN:VCALENDAR
VERSION:2.0
PRODID:-//Community Energy Association - ECPv6.15.14//NONSGML v1.0//EN
CALSCALE:GREGORIAN
METHOD:PUBLISH
X-ORIGINAL-URL:https://www.communityenergy.ca
X-WR-CALDESC:Events for Community Energy Association
REFRESH-INTERVAL;VALUE=DURATION:PT1H
X-Robots-Tag:noindex
X-PUBLISHED-TTL:PT1H
BEGIN:VTIMEZONE
TZID:America/Vancouver
BEGIN:DAYLIGHT
TZOFFSETFROM:-0800
TZOFFSETTO:-0700
TZNAME:PDT
DTSTART:20240310T100000
END:DAYLIGHT
BEGIN:STANDARD
TZOFFSETFROM:-0700
TZOFFSETTO:-0800
TZNAME:PST
DTSTART:20241103T090000
END:STANDARD
BEGIN:DAYLIGHT
TZOFFSETFROM:-0800
TZOFFSETTO:-0700
TZNAME:PDT
DTSTART:20250309T100000
END:DAYLIGHT
BEGIN:STANDARD
TZOFFSETFROM:-0700
TZOFFSETTO:-0800
TZNAME:PST
DTSTART:20251102T090000
END:STANDARD
BEGIN:DAYLIGHT
TZOFFSETFROM:-0800
TZOFFSETTO:-0700
TZNAME:PDT
DTSTART:20260308T100000
END:DAYLIGHT
BEGIN:STANDARD
TZOFFSETFROM:-0700
TZOFFSETTO:-0800
TZNAME:PST
DTSTART:20261101T090000
END:STANDARD
END:VTIMEZONE
BEGIN:VEVENT
DTSTART;TZID=America/Vancouver:20250925T083000
DTEND;TZID=America/Vancouver:20250925T160000
DTSTAMP:20260419T100410
CREATED:20250731T194342Z
LAST-MODIFIED:20250805T163227Z
UID:20375-1758789000-1758816000@www.communityenergy.ca
SUMMARY:Fleet Forward Metro Vancouver: Showcasing Zero Emission Fleet Vehicles
DESCRIPTION:Fleet Forward is a free\, full-day event designed for anyone exploring how medium- and heavy-duty zero-emission vehicles (MHD ZEVs) can work for their operations. The day’s agenda is informed by engagement with local governments and fleet operators from the public and private sector\, so you will receive unbiased\, fulsome information about MHD ZEV technology. \nWith vehicles on display\, time to connect with and learn from peers\, and opportunities to hear from experts and early adopters\, you’ll be able to evaluate which technology can work in your context\, how to plan and prepare for charging/refueling\, and which rebates are available. \nRSVP for Free \nAgenda\n8:30am Arrive and registrations\n9:00am Welcome and introduction from Danielle Wiess: Director of Transportation Initiatives – CEA\n9:20am Presentations from vehicle manufacturers\n9:50am Break and opportunity to tour zero-emission vehicles\n10:20am Learning from early adopters\, presentations from organizations already using zero-emission vehicles\n11:45am Lunch\n12:30am Taking action: Electric fleet planning\n1:00pm Open space discussions\n2:15 Tour of zero-emission vehicles
URL:https://www.communityenergy.ca/event/fleet-forward-metro-vancouver-showcasing-zero-emission-fleet-vehicles/
LOCATION:Burnaby Mountain Golf Course & Driving Range\, 7600 Halifax Street\, Burnaby\, BC\, V5A 4M8\, Canada
ATTACH;FMTTYPE=image/jpeg:https://www.communityenergy.ca/wp-content/uploads/2025/07/Fleet-Forward-eb-Burnaby.jpg
END:VEVENT
END:VCALENDAR