BEGIN:VCALENDAR
VERSION:2.0
PRODID:-//Community Energy Association - ECPv6.15.14//NONSGML v1.0//EN
CALSCALE:GREGORIAN
METHOD:PUBLISH
X-WR-CALNAME:Community Energy Association
X-ORIGINAL-URL:https://www.communityenergy.ca
X-WR-CALDESC:Events for Community Energy Association
REFRESH-INTERVAL;VALUE=DURATION:PT1H
X-Robots-Tag:noindex
X-PUBLISHED-TTL:PT1H
BEGIN:VTIMEZONE
TZID:America/Vancouver
BEGIN:DAYLIGHT
TZOFFSETFROM:-0800
TZOFFSETTO:-0700
TZNAME:PDT
DTSTART:20240310T100000
END:DAYLIGHT
BEGIN:STANDARD
TZOFFSETFROM:-0700
TZOFFSETTO:-0800
TZNAME:PST
DTSTART:20241103T090000
END:STANDARD
BEGIN:DAYLIGHT
TZOFFSETFROM:-0800
TZOFFSETTO:-0700
TZNAME:PDT
DTSTART:20250309T100000
END:DAYLIGHT
BEGIN:STANDARD
TZOFFSETFROM:-0700
TZOFFSETTO:-0800
TZNAME:PST
DTSTART:20251102T090000
END:STANDARD
BEGIN:DAYLIGHT
TZOFFSETFROM:-0800
TZOFFSETTO:-0700
TZNAME:PDT
DTSTART:20260308T100000
END:DAYLIGHT
BEGIN:STANDARD
TZOFFSETFROM:-0700
TZOFFSETTO:-0800
TZNAME:PST
DTSTART:20261101T090000
END:STANDARD
END:VTIMEZONE
BEGIN:VEVENT
DTSTART;TZID=America/Vancouver:20251106T170000
DTEND;TZID=America/Vancouver:20251106T190000
DTSTAMP:20260419T140423
CREATED:20251021T054544Z
LAST-MODIFIED:20251021T054544Z
UID:20844-1762448400-1762455600@www.communityenergy.ca
SUMMARY:Building After Hours - Networking in Williams Lake
DESCRIPTION:Expand your networks and make valuable connections in the pivotal construction sector. \n\n\nYou’re invited to a free networking reception with refreshments\, appetizers\, and great company. Meet professionals from throughout the Cariboo region working in commercial\, industrial and residential construction. \nWhether you’re a tradesperson\, supplier\, builder\, building official\, renovator\, or work in any part of the industry — this is your chance to relax\, mingle\, and build meaningful connections in a casual\, welcoming setting. \nRSVP for Free \n\nThis in-person event is brought to you by the Canadian Home Builders’ Association of Northern BC\, the Northern Regional Construction Association\, and the Community Energy Association — coming together to celebrate and strengthen our vibrant construction community. \n\nNo cost to attend\nPlease register to help us plan for food and space\nConsider joining us for “Plans to Performance Workshop” the following day\, November 7th.\n\nDon’t miss this fantastic evening of networking\, camaraderie\, and connection!
URL:https://www.communityenergy.ca/event/building-after-hours-networking-in-williams-lake/
LOCATION:The Osprey Nest Social House and Eatery\, 1205 Borland Road\, Williams Lake\, BC\, V2G 3X9\, Canada
ATTACH;FMTTYPE=image/jpeg:https://www.communityenergy.ca/wp-content/uploads/2025/10/BESA_BuildingAfterHours_251106.jpg
END:VEVENT
END:VCALENDAR