BEGIN:VCALENDAR
VERSION:2.0
PRODID:-//Community Energy Association - ECPv6.15.14//NONSGML v1.0//EN
CALSCALE:GREGORIAN
METHOD:PUBLISH
X-WR-CALNAME:Community Energy Association
X-ORIGINAL-URL:https://www.communityenergy.ca
X-WR-CALDESC:Events for Community Energy Association
REFRESH-INTERVAL;VALUE=DURATION:PT1H
X-Robots-Tag:noindex
X-PUBLISHED-TTL:PT1H
BEGIN:VTIMEZONE
TZID:America/Vancouver
BEGIN:DAYLIGHT
TZOFFSETFROM:-0800
TZOFFSETTO:-0700
TZNAME:PDT
DTSTART:20240310T100000
END:DAYLIGHT
BEGIN:STANDARD
TZOFFSETFROM:-0700
TZOFFSETTO:-0800
TZNAME:PST
DTSTART:20241103T090000
END:STANDARD
BEGIN:DAYLIGHT
TZOFFSETFROM:-0800
TZOFFSETTO:-0700
TZNAME:PDT
DTSTART:20250309T100000
END:DAYLIGHT
BEGIN:STANDARD
TZOFFSETFROM:-0700
TZOFFSETTO:-0800
TZNAME:PST
DTSTART:20251102T090000
END:STANDARD
BEGIN:DAYLIGHT
TZOFFSETFROM:-0800
TZOFFSETTO:-0700
TZNAME:PDT
DTSTART:20260308T100000
END:DAYLIGHT
BEGIN:STANDARD
TZOFFSETFROM:-0700
TZOFFSETTO:-0800
TZNAME:PST
DTSTART:20261101T090000
END:STANDARD
END:VTIMEZONE
BEGIN:VEVENT
DTSTART;TZID=America/Vancouver:20251107T080000
DTEND;TZID=America/Vancouver:20251107T160000
DTSTAMP:20260419T140439
CREATED:20250828T180433Z
LAST-MODIFIED:20251009T172237Z
UID:20564-1762502400-1762531200@www.communityenergy.ca
SUMMARY:From Plans to Performance: Integrated Design for High-Performance Homes
DESCRIPTION:Discover how Integrated Design Planning supports collaboration\, cost savings\, and reliable results in new build and retrofit projects. \nImagine working on a retrofit or new build project where: everyone works well as a team\, decisions are made early to achieve the best results\, costs are efficient\, and there are no call backs? It’s not a dream\, it’s the result of Integrated Design Planning (IDP). \nBuilders\, energy advisors\, general contractors\, trades\, and all other building professionals: learn how you can bring IDP to your business\, so you can work efficiently and save money over the life of the project. \nAs an example\, we will demonstrate how IDP can help you right-size HVAC mechanical systems — so your project’s heating performance will be just where it needs to be for a cold climate without overrunning costs. \nFull details on Eventbrite
URL:https://www.communityenergy.ca/event/from-plans-to-performance-integrated-design-for-high-performance-homes-williams-lake/
LOCATION:Thompson Rivers University – Williams Lake Campus\, 1250 Western Ave.\, Williams Lake\, BC\, V2G 1H7\, Canada
ATTACH;FMTTYPE=image/jpeg:https://www.communityenergy.ca/wp-content/uploads/2025/08/BESA_IDP_North_eb_r10.jpg
END:VEVENT
END:VCALENDAR