BEGIN:VCALENDAR
VERSION:2.0
PRODID:-//Community Energy Association - ECPv6.15.14//NONSGML v1.0//EN
CALSCALE:GREGORIAN
METHOD:PUBLISH
X-ORIGINAL-URL:https://www.communityenergy.ca
X-WR-CALDESC:Events for Community Energy Association
REFRESH-INTERVAL;VALUE=DURATION:PT1H
X-Robots-Tag:noindex
X-PUBLISHED-TTL:PT1H
BEGIN:VTIMEZONE
TZID:America/Vancouver
BEGIN:DAYLIGHT
TZOFFSETFROM:-0800
TZOFFSETTO:-0700
TZNAME:PDT
DTSTART:20240310T100000
END:DAYLIGHT
BEGIN:STANDARD
TZOFFSETFROM:-0700
TZOFFSETTO:-0800
TZNAME:PST
DTSTART:20241103T090000
END:STANDARD
BEGIN:DAYLIGHT
TZOFFSETFROM:-0800
TZOFFSETTO:-0700
TZNAME:PDT
DTSTART:20250309T100000
END:DAYLIGHT
BEGIN:STANDARD
TZOFFSETFROM:-0700
TZOFFSETTO:-0800
TZNAME:PST
DTSTART:20251102T090000
END:STANDARD
BEGIN:DAYLIGHT
TZOFFSETFROM:-0800
TZOFFSETTO:-0700
TZNAME:PDT
DTSTART:20260308T100000
END:DAYLIGHT
BEGIN:STANDARD
TZOFFSETFROM:-0700
TZOFFSETTO:-0800
TZNAME:PST
DTSTART:20261101T090000
END:STANDARD
END:VTIMEZONE
BEGIN:VEVENT
DTSTART;TZID=America/Vancouver:20251120T080000
DTEND;TZID=America/Vancouver:20251120T100000
DTSTAMP:20260419T140515
CREATED:20250727T181622Z
LAST-MODIFIED:20250727T181644Z
UID:20357-1763625600-1763632800@www.communityenergy.ca
SUMMARY:How to Interpret F280-12 Calculations
DESCRIPTION:Understand how to read an F280-12 report to choose the optimal heat pump equipment with an accurate heat load calculation. \nSo\, an F280-12 compliant load calculation has been conducted to know exactly how much heating and cooling capacity the home you are working on needs. \nAre you sure you are using the calculation correctly to optimize heat pump sizing and selection? \nJoin this webinar for a step-by-step walkthrough of a final load calculation. You will learn key considerations for understanding the report and picking suitable equipment. And we will alert you to common errors in an F280-12 load calculation to ensure you can be confident with using the data for your project. \nMake sure you understand how to interpret F280-12 calculations with this second in our F280-12 webinar series. \nFor building officials\, HVAC contractors\, energy advisors\, and builders. \nRSVP for Free \n  \nNotes\nEvent is free of charge\, but you must pre-register. \nIf you can’t attend the webinar – no problem! We’ll provide the slide deck and a link to the recording to all those who have registered. \nThis event has been pre-approved for two Continuing Professional Development (CPD) Points through BC Housing. \nAbout the Presenter\nRob Pope\, Senior Consultant\, Ecolighten Energy Solutions \nRob started working in the HVAC industry in the mid 1970s where he began his apprenticeship in high-end custom homes\, quickly earning tickets in sheet metal\, refrigeration and gas fitting. During this time\, he installed\, serviced and began designing the first wave of energy-efficient systems such as condensing gas furnaces and boilers\, heat recovery ventilation\, heat pumps and solar thermal. Rob was the Mechanical Consultant on the first residence in Canada to achieve a Canadian LEED® certification. As an active member of the industry he has served as an executive member of the HVCI and TECA industry associations\, advocating for higher standards and better education for its members. \nRelated Webinar\nWant to learn more about right-sizing heat pumps? Don’t miss the other webinar in this series: \n\nStop Guessing and Start Using F280-12 (Oct 16\, 2025): How to collect data for heat load calculations for heat pump installation.
URL:https://www.communityenergy.ca/event/how-to-interpret-f280-12-calculations/
LOCATION:Zoom
ATTACH;FMTTYPE=image/jpeg:https://www.communityenergy.ca/wp-content/uploads/2025/07/BESA_F28012_20251120_eb_r2.jpg
END:VEVENT
END:VCALENDAR