BEGIN:VCALENDAR
VERSION:2.0
PRODID:-//Community Energy Association - ECPv6.15.14//NONSGML v1.0//EN
CALSCALE:GREGORIAN
METHOD:PUBLISH
X-WR-CALNAME:Community Energy Association
X-ORIGINAL-URL:https://www.communityenergy.ca
X-WR-CALDESC:Events for Community Energy Association
REFRESH-INTERVAL;VALUE=DURATION:PT1H
X-Robots-Tag:noindex
X-PUBLISHED-TTL:PT1H
BEGIN:VTIMEZONE
TZID:America/Vancouver
BEGIN:DAYLIGHT
TZOFFSETFROM:-0800
TZOFFSETTO:-0700
TZNAME:PDT
DTSTART:20250309T100000
END:DAYLIGHT
BEGIN:STANDARD
TZOFFSETFROM:-0700
TZOFFSETTO:-0800
TZNAME:PST
DTSTART:20251102T090000
END:STANDARD
BEGIN:DAYLIGHT
TZOFFSETFROM:-0800
TZOFFSETTO:-0700
TZNAME:PDT
DTSTART:20260308T100000
END:DAYLIGHT
BEGIN:STANDARD
TZOFFSETFROM:-0700
TZOFFSETTO:-0800
TZNAME:PST
DTSTART:20261101T090000
END:STANDARD
BEGIN:DAYLIGHT
TZOFFSETFROM:-0800
TZOFFSETTO:-0700
TZNAME:PDT
DTSTART:20270314T100000
END:DAYLIGHT
BEGIN:STANDARD
TZOFFSETFROM:-0700
TZOFFSETTO:-0800
TZNAME:PST
DTSTART:20271107T090000
END:STANDARD
END:VTIMEZONE
BEGIN:VEVENT
DTSTART;TZID=America/Vancouver:20260123T110000
DTEND;TZID=America/Vancouver:20260123T120000
DTSTAMP:20260419T193023
CREATED:20260115T204103Z
LAST-MODIFIED:20260115T204546Z
UID:21318-1769166000-1769169600@www.communityenergy.ca
SUMMARY:CleanBC Review: Recommendations for Local Governments
DESCRIPTION:What does the CleanBC Independent Review mean for local governments and community-led energy\, affordability\, and resilience initiatives? \nThe newly released recommendations from the CleanBC Independent Review outlines seven priorities\, 31 actions\, and eight guiding principles for renewing CleanBC. \nLisa Mak (Climate Solutions Specialist) and CaroleAnn Leishman (Climate Leaders Program Manager) will share what CEA has learned about community perspectives and priorities for CleanBC. Examining the Independent Review’s recommendations\, they will show the implications for local governments and highlight the essential role communities play in advancing CleanBC’s success. \nThis Climate Caucus meeting is facilitated by City of Courtenay councillor Will Cole-Hamilton and open to current and former local elected leaders who are members of Climate Caucus. Join Climate Caucus for free by emailing olivia@climatecaucus.ca or sign up online.
URL:https://www.communityenergy.ca/event/cleanbc-review-recommendations-for-local-governments/
LOCATION:BC
ATTACH;FMTTYPE=image/jpeg:https://www.communityenergy.ca/wp-content/uploads/2026/01/Vancouver-Picture-from-Unsplash-1920-960.jpg
END:VEVENT
END:VCALENDAR