BEGIN:VCALENDAR
VERSION:2.0
PRODID:-//Community Energy Association - ECPv6.15.14//NONSGML v1.0//EN
CALSCALE:GREGORIAN
METHOD:PUBLISH
X-WR-CALNAME:Community Energy Association
X-ORIGINAL-URL:https://www.communityenergy.ca
X-WR-CALDESC:Events for Community Energy Association
REFRESH-INTERVAL;VALUE=DURATION:PT1H
X-Robots-Tag:noindex
X-PUBLISHED-TTL:PT1H
BEGIN:VTIMEZONE
TZID:America/Vancouver
BEGIN:DAYLIGHT
TZOFFSETFROM:-0800
TZOFFSETTO:-0700
TZNAME:PDT
DTSTART:20250309T100000
END:DAYLIGHT
BEGIN:STANDARD
TZOFFSETFROM:-0700
TZOFFSETTO:-0800
TZNAME:PST
DTSTART:20251102T090000
END:STANDARD
BEGIN:DAYLIGHT
TZOFFSETFROM:-0800
TZOFFSETTO:-0700
TZNAME:PDT
DTSTART:20260308T100000
END:DAYLIGHT
BEGIN:STANDARD
TZOFFSETFROM:-0700
TZOFFSETTO:-0800
TZNAME:PST
DTSTART:20261101T090000
END:STANDARD
BEGIN:DAYLIGHT
TZOFFSETFROM:-0800
TZOFFSETTO:-0700
TZNAME:PDT
DTSTART:20270314T100000
END:DAYLIGHT
BEGIN:STANDARD
TZOFFSETFROM:-0700
TZOFFSETTO:-0800
TZNAME:PST
DTSTART:20271107T090000
END:STANDARD
END:VTIMEZONE
BEGIN:VEVENT
DTSTART;TZID=America/Vancouver:20260128T153000
DTEND;TZID=America/Vancouver:20260128T170000
DTSTAMP:20260419T231856
CREATED:20260115T203409Z
LAST-MODIFIED:20260115T203409Z
UID:21311-1769614200-1769619600@www.communityenergy.ca
SUMMARY:EV Policy and Practice in Canada
DESCRIPTION:Canada has committed to Net-zero Emissions by 2050\, with a 2030 Emissions Reduction Plan to meet Canada’s Paris Agreement target to reduce emissions by 40-45 per cent from 2005 levels by 2030. Electric Vehicles (EVs) have been a critical part of Canada’s plan to decarbonize the transportation sector. \nWhile there has been significant growth in the uptake of EVs in Canada\, product affordability\, reduced incentives from both provincial and federal governments\, trade tensions\, consumer concerns over charging infrastructure and performance\, and concerns regarding the consequences of mining critical minerals\, remain significant barriers to broad uptake. \nIn this session\, our panel will explore how the uptake of EVs in Canada is impacted by policy controls and other considerations\, as well as explore the position of the industry at a national scale. \nPresenters will share examples of how this compares to other countries globally. Panelists will also focus on the process of implementing EV-related policies and infrastructure alongside communities and regional or provincial governments. \nYou can participate either in-person or via zoom. \nRegister on Zoom \nZoom participants will be able to submit questions during the Q&A period. \nRegister for In-Person \nThe in-person gathering will include light refreshments and opportunity for networking with other participants. \nModerator\n\n\n\nMilind Kandlikar is Professor at the School of Public Policy and Global Affairs and former Director of the Institute for Resources\, Environment and Sustainability. His work focuses on the intersection of technology innovation\, human development and the global environment. His current projects include cross-national comparisons of regulation of agricultural biotechnology; air quality in Indian cities; risks and benefits of nanotechnology; new technologies for sustainable transportation; and development and climate change. He is a Steering Committee member of the Climate Solutions Research Collective and he is a Faculty Member at UBC’s Clean Energy Research Centre. \n\n\n\nPanelists\n\n\n\nMegan Lohmann is the CEO at Community Energy Association (CEA). She has over 20 years of experience in collaborating with local governments and Indigenous communities to advance climate and energy priorities. Megan supports her team in planning and implementing large-scale\, high-impact initiatives\, effectively leveraging funding and enabling partnerships across local\, regional\, and provincial governments\, utilities\, and the private sector. \nMegan is Vice-Chair of the Electric Mobility Canada Board\, serves on the Board of Governors with the College of the Rockies. She has been a member of the Energy Step Code Council\, Building to Electrification Coalition\, has participated as a Fellow and Ambassador with the Energy Futures Lab and supports a number of other Councils and committees.  In recognition of her leadership\, Megan was honored by BC Business Magazine through their Women of the Year awards in 2023.  Megan is passionate about driving impactful change through her leadership in the sector. \n\n\n\n\n\n\nWerner Antweiler is an Associate Professor in the Sauder School of Business\, where he holds the Chair in International Trade Policy and is chairing the Strategy and Business Economics Division. He works on research related to environmental and energy economics\, including electricity markets\, international trade in energy\, integration of renewable energy into energy systems\, and the electrification of mobility. He is also a frequent commentator on broadcast media about a wide range of public policy topics.  He is a Steering Committee member of the Climate Solutions Research Collective\, he participates in UBC’s Future Minerals Initiative\, and he is a Faculty Member at UBC’s Clean Energy Research Centre.
URL:https://www.communityenergy.ca/event/ev-policy-and-practice-in-canada/
LOCATION:UBC Centre for Interactive Research on Sustainability (CIRS)\, 2260 West Mall\, Vancouver\, British Columbia\, Canada
ATTACH;FMTTYPE=image/jpeg:https://www.communityenergy.ca/wp-content/uploads/2026/01/1768247434785.jpg
END:VEVENT
END:VCALENDAR