BEGIN:VCALENDAR
VERSION:2.0
PRODID:-//Community Energy Association - ECPv6.15.14//NONSGML v1.0//EN
CALSCALE:GREGORIAN
METHOD:PUBLISH
X-WR-CALNAME:Community Energy Association
X-ORIGINAL-URL:https://www.communityenergy.ca
X-WR-CALDESC:Events for Community Energy Association
REFRESH-INTERVAL;VALUE=DURATION:PT1H
X-Robots-Tag:noindex
X-PUBLISHED-TTL:PT1H
BEGIN:VTIMEZONE
TZID:America/Edmonton
BEGIN:DAYLIGHT
TZOFFSETFROM:-0700
TZOFFSETTO:-0600
TZNAME:MDT
DTSTART:20250309T090000
END:DAYLIGHT
BEGIN:STANDARD
TZOFFSETFROM:-0600
TZOFFSETTO:-0700
TZNAME:MST
DTSTART:20251102T080000
END:STANDARD
BEGIN:DAYLIGHT
TZOFFSETFROM:-0700
TZOFFSETTO:-0600
TZNAME:MDT
DTSTART:20260308T090000
END:DAYLIGHT
BEGIN:STANDARD
TZOFFSETFROM:-0600
TZOFFSETTO:-0700
TZNAME:MST
DTSTART:20261101T080000
END:STANDARD
BEGIN:DAYLIGHT
TZOFFSETFROM:-0700
TZOFFSETTO:-0600
TZNAME:MDT
DTSTART:20270314T090000
END:DAYLIGHT
BEGIN:STANDARD
TZOFFSETFROM:-0600
TZOFFSETTO:-0700
TZNAME:MST
DTSTART:20271107T080000
END:STANDARD
END:VTIMEZONE
BEGIN:VEVENT
DTSTART;TZID=America/Edmonton:20260129T110000
DTEND;TZID=America/Edmonton:20260129T120000
DTSTAMP:20260420T010347
CREATED:20260115T202140Z
LAST-MODIFIED:20260115T202256Z
UID:21306-1769684400-1769688000@www.communityenergy.ca
SUMMARY:Unlocking the Value of Carbon Credits for EV Charging Infrastructure Owners
DESCRIPTION:Tune in for a short webinar showing how your organization can benefit from carbon credits in Canada. \nAs more organizations install electric vehicle (EV) charging infrastructure—whether for their own fleets\, employees\, or the public—many are unaware of a powerful financial opportunity available to them: carbon credits. \nJoin us for an informative webinar that demystifies how carbon credits work in Canada and how organizations can benefit from them. We’ll explain how EV charging activity generates eligible credits\, how those credits are quantified\, and how they can be traded on compliance markets such as the BC Low Carbon Fuel Standard and the federal Clean Fuel Regulations. \nParticipants will learn: \n\nHow carbon credits are created when EV charging infrastructure dispenses electricity to EVs—whether for municipal\, commercial\, or public use.\nThe revenue potential of participating in carbon credit markets.\nDifferences between the BC LCFS and federal CFR markets\, and how organizations can participate in one or both.\nWhat infrastructure owners need to track and report to generate credits.\nReal-world examples of how organizations are using carbon credit revenue to offset operating costs\, reinvest in new charging stations\, or support broader sustainability goals.\n\nRSVP for Free
URL:https://www.communityenergy.ca/event/unlocking-the-value-of-carbon-credits-for-ev-charging-infrastructure-owners/
LOCATION:Zoom
ATTACH;FMTTYPE=image/jpeg:https://www.communityenergy.ca/wp-content/uploads/2026/01/DSCF4940-2400p.jpg
END:VEVENT
END:VCALENDAR