BEGIN:VCALENDAR
VERSION:2.0
PRODID:-//Community Energy Association - ECPv6.15.20//NONSGML v1.0//EN
CALSCALE:GREGORIAN
METHOD:PUBLISH
X-WR-CALNAME:Community Energy Association
X-ORIGINAL-URL:https://www.communityenergy.ca
X-WR-CALDESC:Events for Community Energy Association
REFRESH-INTERVAL;VALUE=DURATION:PT1H
X-Robots-Tag:noindex
X-PUBLISHED-TTL:PT1H
BEGIN:VTIMEZONE
TZID:America/Vancouver
BEGIN:DAYLIGHT
TZOFFSETFROM:-0800
TZOFFSETTO:-0700
TZNAME:PDT
DTSTART:20250309T100000
END:DAYLIGHT
BEGIN:STANDARD
TZOFFSETFROM:-0700
TZOFFSETTO:-0800
TZNAME:PST
DTSTART:20251102T090000
END:STANDARD
BEGIN:DAYLIGHT
TZOFFSETFROM:-0800
TZOFFSETTO:-0700
TZNAME:PDT
DTSTART:20260308T100000
END:DAYLIGHT
BEGIN:STANDARD
TZOFFSETFROM:-0700
TZOFFSETTO:-0800
TZNAME:PST
DTSTART:20261101T090000
END:STANDARD
BEGIN:DAYLIGHT
TZOFFSETFROM:-0800
TZOFFSETTO:-0700
TZNAME:PDT
DTSTART:20270314T100000
END:DAYLIGHT
BEGIN:STANDARD
TZOFFSETFROM:-0700
TZOFFSETTO:-0800
TZNAME:PST
DTSTART:20271107T090000
END:STANDARD
END:VTIMEZONE
BEGIN:VEVENT
DTSTART;TZID=America/Vancouver:20260223T110000
DTEND;TZID=America/Vancouver:20260223T120000
DTSTAMP:20260423T163858
CREATED:20260213T220852Z
LAST-MODIFIED:20260213T220936Z
UID:21554-1771844400-1771848000@www.communityenergy.ca
SUMMARY:Lunch & Learn: Solar & Battery Permitting Guide
DESCRIPTION:Feb. 23\, 2026\, join CEA and BC Hydro for a one-hour online session that will introduce and discuss the newly-released Solar and Battery Permitting Guide for Local Governments in BC. \nWe will review and highlight the guide’s key outcomes\, recommendations and implementation pathways\, with time for dialogue and Q&A. The session will also introduce a new opportunity for those who want to dig deeper into solar solutions. Tune in to learn more! \nRegister on Zoom
URL:https://www.communityenergy.ca/event/lunch-learn-solar-battery-permitting-guide/
LOCATION:Zoom
ATTACH;FMTTYPE=image/jpeg:https://www.communityenergy.ca/wp-content/uploads/2026/02/1770838695034.jpg
END:VEVENT
END:VCALENDAR