BEGIN:VCALENDAR
VERSION:2.0
PRODID:-//Community Energy Association - ECPv6.15.20//NONSGML v1.0//EN
CALSCALE:GREGORIAN
METHOD:PUBLISH
X-WR-CALNAME:Community Energy Association
X-ORIGINAL-URL:https://www.communityenergy.ca
X-WR-CALDESC:Events for Community Energy Association
REFRESH-INTERVAL;VALUE=DURATION:PT1H
X-Robots-Tag:noindex
X-PUBLISHED-TTL:PT1H
BEGIN:VTIMEZONE
TZID:America/Vancouver
BEGIN:DAYLIGHT
TZOFFSETFROM:-0800
TZOFFSETTO:-0700
TZNAME:PDT
DTSTART:20250309T100000
END:DAYLIGHT
BEGIN:STANDARD
TZOFFSETFROM:-0700
TZOFFSETTO:-0800
TZNAME:PST
DTSTART:20251102T090000
END:STANDARD
BEGIN:DAYLIGHT
TZOFFSETFROM:-0800
TZOFFSETTO:-0700
TZNAME:PDT
DTSTART:20260308T100000
END:DAYLIGHT
BEGIN:STANDARD
TZOFFSETFROM:-0700
TZOFFSETTO:-0800
TZNAME:PST
DTSTART:20261101T090000
END:STANDARD
BEGIN:DAYLIGHT
TZOFFSETFROM:-0800
TZOFFSETTO:-0700
TZNAME:PDT
DTSTART:20270314T100000
END:DAYLIGHT
BEGIN:STANDARD
TZOFFSETFROM:-0700
TZOFFSETTO:-0800
TZNAME:PST
DTSTART:20271107T090000
END:STANDARD
END:VTIMEZONE
BEGIN:VEVENT
DTSTART;TZID=America/Vancouver:20260305T090000
DTEND;TZID=America/Vancouver:20260305T160000
DTSTAMP:20260423T163407
CREATED:20260212T221827Z
LAST-MODIFIED:20260212T224327Z
UID:21538-1772701200-1772726400@www.communityenergy.ca
SUMMARY:Building Resilience: Safeguarding Your Business\, Optimizing Your Builds
DESCRIPTION:Join CHBA Vancouver Island and the Community Energy Association for a full-day event designed to help builders protect their businesses while enhancing construction performance. This hands-on\, practical session is tailored for builders\, owner-builders\, and trades looking to strengthen both their operations and their builds. \n\nNote: There is no cost for the afternoon session\, thanks to generous sponsorship by the Regional District of Nanaimo. Purchasing a ticket for the morning covers the full day. You can register for the full day or just the free\, afternoon session. \n\nMORNING SESSIONS\nCybersecurity\, Risk Assessment & Commercial Risk Management\nLed by Jen Warman\, CIP\, CAIB\, of Ascera Insurance\, this session provides practical guidance to protect your business in today’s complex digital and regulatory environment. \nBusiness Continuity Strategies\nHollie Quiring from RBC shares actionable strategies to plan for the unexpected and safeguard your operations against disruption. \nRegister \nAFTERNOON SESSION – FREE\nGet hands-on with BCIT’s “Airtight On-Budget” workshop\, focusing on practical air sealing strategies to achieve lower air change rates while keeping costs under control. Through demonstrations\, interactive mock-ups\, and real-world case studies\, participants will learn how to reduce rework\, improve ESC compliance\, and deliver long-term comfort and value for clients\, all while supporting affordability and efficiency on-site. \nRegister
URL:https://www.communityenergy.ca/event/building-resilience-safeguarding-your-business-optimizing-your-builds/
LOCATION:Nanaimo Golf Club\, 2800 Highland Boulevard\, Nanaimo\, BC\, V9S 3N8\, Canada
ATTACH;FMTTYPE=image/webp:https://www.communityenergy.ca/wp-content/uploads/2026/02/Building-Resilience-event-crop.webp
END:VEVENT
END:VCALENDAR