BEGIN:VCALENDAR
VERSION:2.0
PRODID:-//Community Energy Association - ECPv6.15.20//NONSGML v1.0//EN
CALSCALE:GREGORIAN
METHOD:PUBLISH
X-WR-CALNAME:Community Energy Association
X-ORIGINAL-URL:https://www.communityenergy.ca
X-WR-CALDESC:Events for Community Energy Association
REFRESH-INTERVAL;VALUE=DURATION:PT1H
X-Robots-Tag:noindex
X-PUBLISHED-TTL:PT1H
BEGIN:VTIMEZONE
TZID:America/Vancouver
BEGIN:DAYLIGHT
TZOFFSETFROM:-0800
TZOFFSETTO:-0700
TZNAME:PDT
DTSTART:20250309T100000
END:DAYLIGHT
BEGIN:STANDARD
TZOFFSETFROM:-0700
TZOFFSETTO:-0800
TZNAME:PST
DTSTART:20251102T090000
END:STANDARD
BEGIN:DAYLIGHT
TZOFFSETFROM:-0800
TZOFFSETTO:-0700
TZNAME:PDT
DTSTART:20260308T100000
END:DAYLIGHT
BEGIN:STANDARD
TZOFFSETFROM:-0700
TZOFFSETTO:-0800
TZNAME:PST
DTSTART:20261101T090000
END:STANDARD
BEGIN:DAYLIGHT
TZOFFSETFROM:-0800
TZOFFSETTO:-0700
TZNAME:PDT
DTSTART:20270314T100000
END:DAYLIGHT
BEGIN:STANDARD
TZOFFSETFROM:-0700
TZOFFSETTO:-0800
TZNAME:PST
DTSTART:20271107T090000
END:STANDARD
END:VTIMEZONE
BEGIN:VEVENT
DTSTART;TZID=America/Vancouver:20260312T080000
DTEND;TZID=America/Vancouver:20260312T100000
DTSTAMP:20260423T163406
CREATED:20260204T223820Z
LAST-MODIFIED:20260220T174131Z
UID:21525-1773302400-1773309600@www.communityenergy.ca
SUMMARY:Build Better Homes on Budget with Integrated Design Process (IDP)
DESCRIPTION:Learn how IDP helps builders and owner‑builders align trades and energy advisors early to deliver efficient homes on budget. \nDate: Thursday\, March 12\, 2026\nTime: 8–10 a.m. PT\nLocation: Zoom \nRSPV for Free \nAbout This Event\nBuilders\, contractors\, energy advisors\, designers\, owner-builders: this session introduces the Integrated Design Process (IDP) as a practical framework for delivering higher-performing\, lower-risk new construction projects. The workshop emphasizes how engaging an energy advisor (EA) early and involving trades from the outset can streamline coordination\, reduce costly mid-project changes\, and support goals such as higher BC Energy Step Code performance and reduced embodied emissions. \nParticipants will learn how IDP supports clearer decision-making across design and construction phases\, and how energy advisors contribute through early modelling\, mid-construction checks\, and final testing. The session will outline key project milestones where early collaboration between builders\, designers\, trades\, and EAs can prevent delays\, redesigns\, and performance shortfalls. \nThe format: one-hour presentation followed by a facilitated panel discussion featuring local builders and energy advisors\, providing both foundational knowledge and real-world insights. \nBy the end of the session\, participants will have a clearer understanding of roles and responsibilities within an integrated project team and practical strategies for improving communication\, coordination\, and cost-effective delivery of energy-efficient homes. \nNotes\nContinuing Professional Development (CPD) Point approval is pending through BC Housing. \n\n\nBrought to you by the Community Energy Association and the Regional District of Nanaimo.
URL:https://www.communityenergy.ca/event/build-better-homes-on-budget-with-integrated-design-process-idp/
LOCATION:Zoom
ATTACH;FMTTYPE=image/jpeg:https://www.communityenergy.ca/wp-content/uploads/2026/02/RDN-eventbrite-2026-03-12-B.jpg
END:VEVENT
END:VCALENDAR