BEGIN:VCALENDAR
VERSION:2.0
PRODID:-//Community Energy Association - ECPv6.15.20//NONSGML v1.0//EN
CALSCALE:GREGORIAN
METHOD:PUBLISH
X-WR-CALNAME:Community Energy Association
X-ORIGINAL-URL:https://www.communityenergy.ca
X-WR-CALDESC:Events for Community Energy Association
REFRESH-INTERVAL;VALUE=DURATION:PT1H
X-Robots-Tag:noindex
X-PUBLISHED-TTL:PT1H
BEGIN:VTIMEZONE
TZID:America/Vancouver
BEGIN:DAYLIGHT
TZOFFSETFROM:-0800
TZOFFSETTO:-0700
TZNAME:PDT
DTSTART:20250309T100000
END:DAYLIGHT
BEGIN:STANDARD
TZOFFSETFROM:-0700
TZOFFSETTO:-0800
TZNAME:PST
DTSTART:20251102T090000
END:STANDARD
BEGIN:DAYLIGHT
TZOFFSETFROM:-0800
TZOFFSETTO:-0700
TZNAME:PDT
DTSTART:20260308T100000
END:DAYLIGHT
BEGIN:STANDARD
TZOFFSETFROM:-0700
TZOFFSETTO:-0800
TZNAME:PST
DTSTART:20261101T090000
END:STANDARD
BEGIN:DAYLIGHT
TZOFFSETFROM:-0800
TZOFFSETTO:-0700
TZNAME:PDT
DTSTART:20270314T100000
END:DAYLIGHT
BEGIN:STANDARD
TZOFFSETFROM:-0700
TZOFFSETTO:-0800
TZNAME:PST
DTSTART:20271107T090000
END:STANDARD
END:VTIMEZONE
BEGIN:VEVENT
DTSTART;TZID=America/Vancouver:20260331T080000
DTEND;TZID=America/Vancouver:20260331T100000
DTSTAMP:20260423T143459
CREATED:20260311T231112Z
LAST-MODIFIED:20260312T052723Z
UID:21745-1774944000-1774951200@www.communityenergy.ca
SUMMARY:Energy and Zero Carbon Step Codes in Practice
DESCRIPTION:Real‑world lessons on meeting BC’s Energy Step Code and Zero Carbon Step Code. \nTune in to join a panel of building professionals sharing their real‑world experience implementing BC’s Energy Step Code and Zero Carbon Step Code. \nAttendees will learn practical solutions\, cost‑effective strategies\, and ways to improve energy efficiency outcomes. Discussion will focus on code‑compliant construction methods and practical lessons learned in the pursuit of higher performance. Panelists will also share how recent and upcoming code changes are being interpreted and common challenges and pitfalls they see. \nBring your questions!\nPlease submit questions during event registration. We want to hear your real-world scenarios\, which panelists will address in facilitated discussion (as many questions as time permits). \nRSVP for Free\n  \nWho should attend?\nThis webinar and panel will be of interest to higher performance builders and any building-related trades and professionals who are or may be required to understand\, interpret\, and apply the BC Building Code\, BC Energy Step Code\, and BC Zero Carbon Step Code. \n  \nBrought to you by the Community Energy Association with the support of BC Hydro.
URL:https://www.communityenergy.ca/event/energy-and-zero-carbon-step-codes-in-practice/
LOCATION:Zoom
ATTACH;FMTTYPE=image/jpeg:https://www.communityenergy.ca/wp-content/uploads/2026/03/BSX-Step-Code-eb-20260331-r2.jpg
END:VEVENT
END:VCALENDAR