BEGIN:VCALENDAR
VERSION:2.0
PRODID:-//Community Energy Association - ECPv6.15.14//NONSGML v1.0//EN
CALSCALE:GREGORIAN
METHOD:PUBLISH
X-ORIGINAL-URL:https://www.communityenergy.ca
X-WR-CALDESC:Events for Community Energy Association
REFRESH-INTERVAL;VALUE=DURATION:PT1H
X-Robots-Tag:noindex
X-PUBLISHED-TTL:PT1H
BEGIN:VTIMEZONE
TZID:America/Vancouver
BEGIN:DAYLIGHT
TZOFFSETFROM:-0800
TZOFFSETTO:-0700
TZNAME:PDT
DTSTART:20250309T100000
END:DAYLIGHT
BEGIN:STANDARD
TZOFFSETFROM:-0700
TZOFFSETTO:-0800
TZNAME:PST
DTSTART:20251102T090000
END:STANDARD
BEGIN:DAYLIGHT
TZOFFSETFROM:-0800
TZOFFSETTO:-0700
TZNAME:PDT
DTSTART:20260308T100000
END:DAYLIGHT
BEGIN:STANDARD
TZOFFSETFROM:-0700
TZOFFSETTO:-0800
TZNAME:PST
DTSTART:20261101T090000
END:STANDARD
BEGIN:DAYLIGHT
TZOFFSETFROM:-0800
TZOFFSETTO:-0700
TZNAME:PDT
DTSTART:20270314T100000
END:DAYLIGHT
BEGIN:STANDARD
TZOFFSETFROM:-0700
TZOFFSETTO:-0800
TZNAME:PST
DTSTART:20271107T090000
END:STANDARD
END:VTIMEZONE
BEGIN:VEVENT
DTSTART;TZID=America/Vancouver:20260507T080000
DTEND;TZID=America/Vancouver:20260507T100000
DTSTAMP:20260419T174821
CREATED:20260407T223046Z
LAST-MODIFIED:20260407T223408Z
UID:21902-1778140800-1778148000@www.communityenergy.ca
SUMMARY:Materials that Improve Energy Use & Reduce Emissions
DESCRIPTION:Real‑world lessons on selecting construction materials for an energy efficient build that also limits embodied carbon emissions. \nTune in to join a panel of building professionals explain what you need to consider when choosing materials for a high-performance home. Panelists will discuss supply chain realities and decision‑making in different contexts\, including rural and remote communities\, cold‑climate conditions\, tariffs\, and emerging materials. \nAttendees will gain practical insights into balancing performance\, cost\, and carbon intensity when selecting materials. The session will highlight cost-effective approaches\, strategies to preserve energy efficiency\, and ways to reduce embodied carbon — while exploring how thoughtful material choices can support both project budgets and high-performance outcomes. \nBring your questions! \nPlease submit questions during event registration. We want to hear your real-world scenarios\, which panelists will address in facilitated discussion (as many questions as time permits). \nRSVP for Free \nWho should attend?\nThis webinar and panel will be of interest to higher performance builders and any building-related trades and professionals who are or may be required to understand\, interpret\, and apply the BC Building Code\, BC Energy Step Code\, and BC Zero Carbon Step Code.
URL:https://www.communityenergy.ca/event/materials-that-improve-energy-use-reduce-emissions/
LOCATION:Zoom
ATTACH;FMTTYPE=image/jpeg:https://www.communityenergy.ca/wp-content/uploads/2026/04/BSX-Materials-email-20260507-r1.jpg
END:VEVENT
BEGIN:VEVENT
DTSTART;TZID=America/Vancouver:20260528T080000
DTEND;TZID=America/Vancouver:20260528T100000
DTSTAMP:20260419T174821
CREATED:20260407T223324Z
LAST-MODIFIED:20260407T223344Z
UID:21905-1779955200-1779962400@www.communityenergy.ca
SUMMARY:Design & Installation of HVAC Mechanical Systems
DESCRIPTION:Real‑world lessons on providing heating and cooling systems that meet high performance and make homeowners happy. \nAbout the event\nTune in to join a panel of building professionals explaining their battle-tested strategies for designing and installing heat pumps and HVAC mechanical systems. \nAttendees will learn practical solutions\, cost‑effective strategies\, and ways to improve energy efficiency outcomes. Panelists will discuss right-sizing of heat pumps\, installation and supply challenges\, common issues in duct design\, and more. The focus will be placed on performance\, practicality\, and managing costs. \nBring your questions! \nPlease submit questions during event registration. We want to hear your real-world scenarios\, which panelists will address in facilitated discussion (as many questions as time permits). \nRSVP for Free \nWho should attend?\nThis webinar and panel will be of interest to higher performance builders and any building-related trades and professionals who are or may be required to understand\, interpret\, and apply the BC Building Code\, BC Energy Step Code\, and BC Zero Carbon Step Code.
URL:https://www.communityenergy.ca/event/design-installation-of-hvac-mechanical-systems/
LOCATION:Zoom
ATTACH;FMTTYPE=image/jpeg:https://www.communityenergy.ca/wp-content/uploads/2026/04/BSX-HVAC-email-20260528-r1.jpg
END:VEVENT
END:VCALENDAR