BEGIN:VCALENDAR
VERSION:2.0
PRODID:-//Community Energy Association - ECPv6.15.14//NONSGML v1.0//EN
CALSCALE:GREGORIAN
METHOD:PUBLISH
X-WR-CALNAME:Community Energy Association
X-ORIGINAL-URL:https://www.communityenergy.ca
X-WR-CALDESC:Events for Community Energy Association
REFRESH-INTERVAL;VALUE=DURATION:PT1H
X-Robots-Tag:noindex
X-PUBLISHED-TTL:PT1H
BEGIN:VTIMEZONE
TZID:America/Halifax
BEGIN:DAYLIGHT
TZOFFSETFROM:-0400
TZOFFSETTO:-0300
TZNAME:ADT
DTSTART:20240310T060000
END:DAYLIGHT
BEGIN:STANDARD
TZOFFSETFROM:-0300
TZOFFSETTO:-0400
TZNAME:AST
DTSTART:20241103T050000
END:STANDARD
BEGIN:DAYLIGHT
TZOFFSETFROM:-0400
TZOFFSETTO:-0300
TZNAME:ADT
DTSTART:20250309T060000
END:DAYLIGHT
BEGIN:STANDARD
TZOFFSETFROM:-0300
TZOFFSETTO:-0400
TZNAME:AST
DTSTART:20251102T050000
END:STANDARD
BEGIN:DAYLIGHT
TZOFFSETFROM:-0400
TZOFFSETTO:-0300
TZNAME:ADT
DTSTART:20260308T060000
END:DAYLIGHT
BEGIN:STANDARD
TZOFFSETFROM:-0300
TZOFFSETTO:-0400
TZNAME:AST
DTSTART:20261101T050000
END:STANDARD
END:VTIMEZONE
BEGIN:VEVENT
DTSTART;TZID=America/Halifax:20251210T180000
DTEND;TZID=America/Halifax:20251210T191500
DTSTAMP:20260419T140517
CREATED:20251124T210517Z
LAST-MODIFIED:20251124T211003Z
UID:21066-1765389600-1765394100@www.communityenergy.ca
SUMMARY:Accessible Home Retrofits: a Colchester Community Conversation
DESCRIPTION:Have high energy bills? Want a more comfortable home? We want to hear from you!\nThe Municipality of Colchester is developing a new coordinated home retrofit program to make energy-saving and healthy home upgrades more affordable and easier for homeowners. \nCome out and share what would make home upgrades more affordable and accessible for you and others in your community. \nThis program is intended to serve homeowners located in the Municipality of Colchester . We especially welcome input from lower-income homeowners (income of approximately 50\,000 or less).
URL:https://www.communityenergy.ca/event/accessible-home-retrofits-a-colchester-community-conversation/
LOCATION:Truro Library\, 754 Prince Street\, Truro\, Nova Scotia\, Canada
ATTACH;FMTTYPE=image/jpeg:https://www.communityenergy.ca/wp-content/uploads/2025/11/Eventbrite-image-1-scaled.jpg
END:VEVENT
END:VCALENDAR