BEGIN:VCALENDAR
VERSION:2.0
PRODID:-//Community Energy Association - ECPv6.15.14//NONSGML v1.0//EN
CALSCALE:GREGORIAN
METHOD:PUBLISH
X-WR-CALNAME:Community Energy Association
X-ORIGINAL-URL:https://www.communityenergy.ca
X-WR-CALDESC:Events for Community Energy Association
REFRESH-INTERVAL;VALUE=DURATION:PT1H
X-Robots-Tag:noindex
X-PUBLISHED-TTL:PT1H
BEGIN:VTIMEZONE
TZID:America/Vancouver
BEGIN:DAYLIGHT
TZOFFSETFROM:-0800
TZOFFSETTO:-0700
TZNAME:PDT
DTSTART:20200308T100000
END:DAYLIGHT
BEGIN:STANDARD
TZOFFSETFROM:-0700
TZOFFSETTO:-0800
TZNAME:PST
DTSTART:20201101T090000
END:STANDARD
BEGIN:DAYLIGHT
TZOFFSETFROM:-0800
TZOFFSETTO:-0700
TZNAME:PDT
DTSTART:20210314T100000
END:DAYLIGHT
BEGIN:STANDARD
TZOFFSETFROM:-0700
TZOFFSETTO:-0800
TZNAME:PST
DTSTART:20211107T090000
END:STANDARD
BEGIN:DAYLIGHT
TZOFFSETFROM:-0800
TZOFFSETTO:-0700
TZNAME:PDT
DTSTART:20220313T100000
END:DAYLIGHT
BEGIN:STANDARD
TZOFFSETFROM:-0700
TZOFFSETTO:-0800
TZNAME:PST
DTSTART:20221106T090000
END:STANDARD
END:VTIMEZONE
BEGIN:VEVENT
DTSTART;TZID=America/Vancouver:20210428T090000
DTEND;TZID=America/Vancouver:20210428T110500
DTSTAMP:20260422T214946
CREATED:20210421T185251Z
LAST-MODIFIED:20210421T210643Z
UID:6738-1619600400-1619607900@www.communityenergy.ca
SUMMARY:Best practices for working with an energy advisor
DESCRIPTION:This webinar will help the building industry better understand the “performance pathway” of the BC Energy Step Code and how to get results from working with an energy advisor. \nApproved by BC Housing for 2 CPD. Pre-registration and attendance on the live Zoom session required. \n\n\n\nIntended audience: Builders\, designers\, building officials\, municipal staff\, and others in the BC construction community\, province-wide. \nBC Building Codes are evolving and we want you to know how to benefit. This free-of-charge webinar is part of the Building A Legacy initiative\, delivered by Community Energy Association\, with instruction from Mark Bernhardt\, Bernhardt Contracting and a local builder or EA\, this session is open and applicable to participants province-wide and beyond. \nRegister here: https://us02web.zoom.us/meeting/register/tZYtc-2srjopGtFnmuBUMhINj6rbNW6liR_e \nInstructors: \n\nMark Bernhardt\, Bernhardt Contracting\nMeredith Hamstead of thinkBright Homes\n\nAgenda: \n9:00-9:10     CEA Introduction to the BC Energy Step Code\n9:10-11:00   Mark Bernhardt\, Energy Advisor (EA) co-presenting with a local builder or EA: \n\nHow EAs work within Step Code\nServices EAs provide in both new construction and retrofits\nModelling timelines and pre-design information requirements\nPost-modelling changes in the design or mechanical systems\nAchieving as-built compliance and occupancy permits\nIntroduction to the concept of integrated design process (IDP)\nHow can an EA save you money? (i.e. design optimization)\nCreative solutions for engaging EAs remotely and in collaboration with one another\nFinding an EA\n\n10:55 – 11:00 CEA feedback poll & closing remarks \nHandout: Working with an Energy Advisor
URL:https://www.communityenergy.ca/event/best-practices-for-working-with-an-energy-advisor/
LOCATION:Zoom
END:VEVENT
END:VCALENDAR